BEGIN:VCALENDAR
VERSION:2.0
PRODID:-//Friends of Lake Quannapowitt - ECPv6.15.18//NONSGML v1.0//EN
CALSCALE:GREGORIAN
METHOD:PUBLISH
X-WR-CALNAME:Friends of Lake Quannapowitt
X-ORIGINAL-URL:https://folq.org
X-WR-CALDESC:Events for Friends of Lake Quannapowitt
REFRESH-INTERVAL;VALUE=DURATION:PT1H
X-Robots-Tag:noindex
X-PUBLISHED-TTL:PT1H
BEGIN:VTIMEZONE
TZID:UTC
BEGIN:STANDARD
TZOFFSETFROM:+0000
TZOFFSETTO:+0000
TZNAME:UTC
DTSTART:20240101T000000
END:STANDARD
END:VTIMEZONE
BEGIN:VEVENT
DTSTART;TZID=UTC:20251116T080000
DTEND;TZID=UTC:20251116T110000
DTSTAMP:20260421T065841
CREATED:20191030T200155Z
LAST-MODIFIED:20251125T171201Z
UID:10000087-1763280000-1763290800@folq.org
SUMMARY:Annual Breakfast 🥞
DESCRIPTION:
URL:https://folq.org/event/annual-breakfast/
LOCATION:Crystal Community Club\, 77 Preston St\, Wakefield\, MA\, 01880
ORGANIZER;CN="FOLQ":MAILTO:mail@folq.org
GEO:42.5054565;-71.0600374
X-APPLE-STRUCTURED-LOCATION;VALUE=URI;X-ADDRESS=Crystal Community Club 77 Preston St Wakefield MA 01880;X-APPLE-RADIUS=500;X-TITLE=77 Preston St:geo:-71.0600374,42.5054565
END:VEVENT
END:VCALENDAR