BEGIN:VCALENDAR
VERSION:2.0
PRODID:-//Friends of Lake Quannapowitt - ECPv6.15.18//NONSGML v1.0//EN
CALSCALE:GREGORIAN
METHOD:PUBLISH
X-WR-CALNAME:Friends of Lake Quannapowitt
X-ORIGINAL-URL:https://folq.org
X-WR-CALDESC:Events for Friends of Lake Quannapowitt
REFRESH-INTERVAL;VALUE=DURATION:PT1H
X-Robots-Tag:noindex
X-PUBLISHED-TTL:PT1H
BEGIN:VTIMEZONE
TZID:UTC
BEGIN:STANDARD
TZOFFSETFROM:+0000
TZOFFSETTO:+0000
TZNAME:UTC
DTSTART:20180101T000000
END:STANDARD
END:VTIMEZONE
BEGIN:VEVENT
DTSTART;TZID=UTC:20220503T190000
DTEND;TZID=UTC:20220503T210000
DTSTAMP:20260422T175050
CREATED:20191003T232138Z
LAST-MODIFIED:20200106T150740Z
UID:10000026-1651604400-1651611600@folq.org
SUMMARY:Board Meeting
DESCRIPTION:
URL:https://folq.org/event/board-meeting/2022-05-03/
END:VEVENT
BEGIN:VEVENT
DTSTART;TZID=UTC:20220405T190000
DTEND;TZID=UTC:20220405T210000
DTSTAMP:20260422T175050
CREATED:20191003T232138Z
LAST-MODIFIED:20200106T150740Z
UID:10000025-1649185200-1649192400@folq.org
SUMMARY:Board Meeting
DESCRIPTION:
URL:https://folq.org/event/board-meeting/2022-04-05/
END:VEVENT
BEGIN:VEVENT
DTSTART;TZID=UTC:20220301T190000
DTEND;TZID=UTC:20220301T210000
DTSTAMP:20260422T175050
CREATED:20191003T232138Z
LAST-MODIFIED:20200106T150740Z
UID:10000024-1646161200-1646168400@folq.org
SUMMARY:Board Meeting
DESCRIPTION:
URL:https://folq.org/event/board-meeting/2022-03-01/
END:VEVENT
BEGIN:VEVENT
DTSTART;TZID=UTC:20220104T190000
DTEND;TZID=UTC:20220104T210000
DTSTAMP:20260422T175050
CREATED:20191003T232138Z
LAST-MODIFIED:20200106T150740Z
UID:10000023-1641322800-1641330000@folq.org
SUMMARY:Board Meeting
DESCRIPTION:
URL:https://folq.org/event/board-meeting/2022-01-04/
END:VEVENT
BEGIN:VEVENT
DTSTART;TZID=UTC:20211207T190000
DTEND;TZID=UTC:20211207T210000
DTSTAMP:20260422T175050
CREATED:20191003T232138Z
LAST-MODIFIED:20200106T150740Z
UID:10000022-1638903600-1638910800@folq.org
SUMMARY:Board Meeting
DESCRIPTION:
URL:https://folq.org/event/board-meeting/2021-12-07/
END:VEVENT
BEGIN:VEVENT
DTSTART;TZID=UTC:20211102T190000
DTEND;TZID=UTC:20211102T210000
DTSTAMP:20260422T175050
CREATED:20191003T232138Z
LAST-MODIFIED:20200106T150740Z
UID:10000021-1635879600-1635886800@folq.org
SUMMARY:Board Meeting
DESCRIPTION:
URL:https://folq.org/event/board-meeting/2021-11-02/
END:VEVENT
BEGIN:VEVENT
DTSTART;TZID=UTC:20211005T190000
DTEND;TZID=UTC:20211005T210000
DTSTAMP:20260422T175050
CREATED:20191003T232138Z
LAST-MODIFIED:20200106T150740Z
UID:10000020-1633460400-1633467600@folq.org
SUMMARY:Board Meeting
DESCRIPTION:
URL:https://folq.org/event/board-meeting/2021-10-05/
END:VEVENT
BEGIN:VEVENT
DTSTART;TZID=UTC:20210907T190000
DTEND;TZID=UTC:20210907T210000
DTSTAMP:20260422T175050
CREATED:20191003T232138Z
LAST-MODIFIED:20200106T150740Z
UID:10000019-1631041200-1631048400@folq.org
SUMMARY:Board Meeting
DESCRIPTION:
URL:https://folq.org/event/board-meeting/2021-09-07/
END:VEVENT
BEGIN:VEVENT
DTSTART;TZID=UTC:20210706T190000
DTEND;TZID=UTC:20210706T210000
DTSTAMP:20260422T175050
CREATED:20191003T232138Z
LAST-MODIFIED:20200106T150740Z
UID:10000018-1625598000-1625605200@folq.org
SUMMARY:Board Meeting
DESCRIPTION:
URL:https://folq.org/event/board-meeting/2021-07-06/
END:VEVENT
BEGIN:VEVENT
DTSTART;TZID=UTC:20210601T190000
DTEND;TZID=UTC:20210601T210000
DTSTAMP:20260422T175050
CREATED:20191003T232138Z
LAST-MODIFIED:20200106T150740Z
UID:10000017-1622574000-1622581200@folq.org
SUMMARY:Board Meeting
DESCRIPTION:
URL:https://folq.org/event/board-meeting/2021-06-01/
END:VEVENT
BEGIN:VEVENT
DTSTART;TZID=UTC:20210504T190000
DTEND;TZID=UTC:20210504T210000
DTSTAMP:20260422T175050
CREATED:20191003T232138Z
LAST-MODIFIED:20200106T150740Z
UID:10000016-1620154800-1620162000@folq.org
SUMMARY:Board Meeting
DESCRIPTION:
URL:https://folq.org/event/board-meeting/2021-05-04/
END:VEVENT
BEGIN:VEVENT
DTSTART;TZID=UTC:20210406T190000
DTEND;TZID=UTC:20210406T210000
DTSTAMP:20260422T175050
CREATED:20191003T232138Z
LAST-MODIFIED:20200106T150740Z
UID:10000015-1617735600-1617742800@folq.org
SUMMARY:Board Meeting
DESCRIPTION:
URL:https://folq.org/event/board-meeting/2021-04-06/
END:VEVENT
BEGIN:VEVENT
DTSTART;TZID=UTC:20210302T190000
DTEND;TZID=UTC:20210302T210000
DTSTAMP:20260422T175050
CREATED:20191003T232138Z
LAST-MODIFIED:20200106T150740Z
UID:10000014-1614711600-1614718800@folq.org
SUMMARY:Board Meeting
DESCRIPTION:
URL:https://folq.org/event/board-meeting/2021-03-02/
END:VEVENT
BEGIN:VEVENT
DTSTART;TZID=UTC:20210105T190000
DTEND;TZID=UTC:20210105T210000
DTSTAMP:20260422T175050
CREATED:20191003T232138Z
LAST-MODIFIED:20200106T150740Z
UID:10000013-1609873200-1609880400@folq.org
SUMMARY:Board Meeting
DESCRIPTION:
URL:https://folq.org/event/board-meeting/2021-01-05/
END:VEVENT
BEGIN:VEVENT
DTSTART;TZID=UTC:20201201T190000
DTEND;TZID=UTC:20201201T210000
DTSTAMP:20260422T175050
CREATED:20191003T232138Z
LAST-MODIFIED:20200106T150740Z
UID:10000012-1606849200-1606856400@folq.org
SUMMARY:Board Meeting
DESCRIPTION:
URL:https://folq.org/event/board-meeting/2020-12-01/
END:VEVENT
BEGIN:VEVENT
DTSTART;TZID=UTC:20201103T190000
DTEND;TZID=UTC:20201103T210000
DTSTAMP:20260422T175050
CREATED:20191003T232138Z
LAST-MODIFIED:20200106T150740Z
UID:10000011-1604430000-1604437200@folq.org
SUMMARY:Board Meeting
DESCRIPTION:
URL:https://folq.org/event/board-meeting/2020-11-03/
END:VEVENT
BEGIN:VEVENT
DTSTART;TZID=UTC:20201006T190000
DTEND;TZID=UTC:20201006T210000
DTSTAMP:20260422T175050
CREATED:20191003T232138Z
LAST-MODIFIED:20200106T150740Z
UID:10000010-1602010800-1602018000@folq.org
SUMMARY:Board Meeting
DESCRIPTION:
URL:https://folq.org/event/board-meeting/2020-10-06/
END:VEVENT
BEGIN:VEVENT
DTSTART;TZID=UTC:20200901T190000
DTEND;TZID=UTC:20200901T210000
DTSTAMP:20260422T175050
CREATED:20191003T232138Z
LAST-MODIFIED:20200106T150740Z
UID:10000009-1598986800-1598994000@folq.org
SUMMARY:Board Meeting
DESCRIPTION:
URL:https://folq.org/event/board-meeting/2020-09-01/
END:VEVENT
BEGIN:VEVENT
DTSTART;TZID=UTC:20200707T190000
DTEND;TZID=UTC:20200707T210000
DTSTAMP:20260422T175050
CREATED:20191003T232138Z
LAST-MODIFIED:20200106T150740Z
UID:10000008-1594148400-1594155600@folq.org
SUMMARY:Board Meeting
DESCRIPTION:
URL:https://folq.org/event/board-meeting/2020-07-07/
END:VEVENT
BEGIN:VEVENT
DTSTART;TZID=UTC:20200602T190000
DTEND;TZID=UTC:20200602T210000
DTSTAMP:20260422T175050
CREATED:20191003T232138Z
LAST-MODIFIED:20200106T150740Z
UID:10000007-1591124400-1591131600@folq.org
SUMMARY:Board Meeting
DESCRIPTION:
URL:https://folq.org/event/board-meeting/2020-06-02/
END:VEVENT
BEGIN:VEVENT
DTSTART;TZID=UTC:20200522T080000
DTEND;TZID=UTC:20200522T170000
DTSTAMP:20260422T175050
CREATED:20191003T232637Z
LAST-MODIFIED:20191003T232637Z
UID:10000086-1590134400-1590166800@folq.org
SUMMARY:Annual Meeting
DESCRIPTION:
URL:https://folq.org/event/annual-meeting/
END:VEVENT
BEGIN:VEVENT
DTSTART;TZID=UTC:20200505T190000
DTEND;TZID=UTC:20200505T210000
DTSTAMP:20260422T175050
CREATED:20191003T232138Z
LAST-MODIFIED:20200106T150740Z
UID:10000006-1588705200-1588712400@folq.org
SUMMARY:Board Meeting
DESCRIPTION:
URL:https://folq.org/event/board-meeting/2020-05-05/
END:VEVENT
BEGIN:VEVENT
DTSTART;VALUE=DATE:20200427
DTEND;VALUE=DATE:20200428
DTSTAMP:20260422T175050
CREATED:20191003T232559Z
LAST-MODIFIED:20191003T232559Z
UID:10000085-1587945600-1588031999@folq.org
SUMMARY:Spring Lake Cleanup
DESCRIPTION:
URL:https://folq.org/event/spring-lake-cleanup/
END:VEVENT
BEGIN:VEVENT
DTSTART;TZID=UTC:20200407T190000
DTEND;TZID=UTC:20200407T210000
DTSTAMP:20260422T175050
CREATED:20191003T232138Z
LAST-MODIFIED:20200106T150740Z
UID:10000005-1586286000-1586293200@folq.org
SUMMARY:Board Meeting
DESCRIPTION:
URL:https://folq.org/event/board-meeting/2020-04-07/
END:VEVENT
BEGIN:VEVENT
DTSTART;TZID=UTC:20200303T190000
DTEND;TZID=UTC:20200303T210000
DTSTAMP:20260422T175050
CREATED:20191003T232138Z
LAST-MODIFIED:20200106T150740Z
UID:10000004-1583262000-1583269200@folq.org
SUMMARY:Board Meeting
DESCRIPTION:
URL:https://folq.org/event/board-meeting/2020-03-03/
END:VEVENT
BEGIN:VEVENT
DTSTART;TZID=UTC:20200107T190000
DTEND;TZID=UTC:20200107T210000
DTSTAMP:20260422T175050
CREATED:20191003T232138Z
LAST-MODIFIED:20200106T150740Z
UID:10000003-1578423600-1578430800@folq.org
SUMMARY:Board Meeting
DESCRIPTION:
URL:https://folq.org/event/board-meeting/2020-01-07/
END:VEVENT
BEGIN:VEVENT
DTSTART;TZID=UTC:20191203T190000
DTEND;TZID=UTC:20191203T210000
DTSTAMP:20260422T175050
CREATED:20191003T232138Z
LAST-MODIFIED:20200106T150740Z
UID:10000002-1575399600-1575406800@folq.org
SUMMARY:Board Meeting
DESCRIPTION:
URL:https://folq.org/event/board-meeting/2019-12-03/
END:VEVENT
BEGIN:VEVENT
DTSTART;TZID=UTC:20191105T190000
DTEND;TZID=UTC:20191105T210000
DTSTAMP:20260422T175050
CREATED:20191003T232138Z
LAST-MODIFIED:20200106T150740Z
UID:10000001-1572980400-1572987600@folq.org
SUMMARY:Board Meeting
DESCRIPTION:
URL:https://folq.org/event/board-meeting/2019-11-05/
END:VEVENT
END:VCALENDAR