BEGIN:VCALENDAR
VERSION:2.0
PRODID:-//Friends of Lake Quannapowitt - ECPv6.15.18//NONSGML v1.0//EN
CALSCALE:GREGORIAN
METHOD:PUBLISH
X-WR-CALNAME:Friends of Lake Quannapowitt
X-ORIGINAL-URL:https://folq.org
X-WR-CALDESC:Events for Friends of Lake Quannapowitt
REFRESH-INTERVAL;VALUE=DURATION:PT1H
X-Robots-Tag:noindex
X-PUBLISHED-TTL:PT1H
BEGIN:VTIMEZONE
TZID:UTC
BEGIN:STANDARD
TZOFFSETFROM:+0000
TZOFFSETTO:+0000
TZNAME:UTC
DTSTART:20220101T000000
END:STANDARD
END:VTIMEZONE
BEGIN:VTIMEZONE
TZID:America/New_York
BEGIN:DAYLIGHT
TZOFFSETFROM:-0500
TZOFFSETTO:-0400
TZNAME:EDT
DTSTART:20230312T070000
END:DAYLIGHT
BEGIN:STANDARD
TZOFFSETFROM:-0400
TZOFFSETTO:-0500
TZNAME:EST
DTSTART:20231105T060000
END:STANDARD
BEGIN:DAYLIGHT
TZOFFSETFROM:-0500
TZOFFSETTO:-0400
TZNAME:EDT
DTSTART:20240310T070000
END:DAYLIGHT
BEGIN:STANDARD
TZOFFSETFROM:-0400
TZOFFSETTO:-0500
TZNAME:EST
DTSTART:20241103T060000
END:STANDARD
BEGIN:DAYLIGHT
TZOFFSETFROM:-0500
TZOFFSETTO:-0400
TZNAME:EDT
DTSTART:20250309T070000
END:DAYLIGHT
BEGIN:STANDARD
TZOFFSETFROM:-0400
TZOFFSETTO:-0500
TZNAME:EST
DTSTART:20251102T060000
END:STANDARD
BEGIN:DAYLIGHT
TZOFFSETFROM:-0500
TZOFFSETTO:-0400
TZNAME:EDT
DTSTART:20260308T070000
END:DAYLIGHT
BEGIN:STANDARD
TZOFFSETFROM:-0400
TZOFFSETTO:-0500
TZNAME:EST
DTSTART:20261101T060000
END:STANDARD
END:VTIMEZONE
BEGIN:VEVENT
DTSTART;TZID=UTC:20250506T183000
DTEND;TZID=UTC:20250506T200000
DTSTAMP:20260422T175008
CREATED:20250117T204031Z
LAST-MODIFIED:20250117T204031Z
UID:10000108-1746556200-1746561600@folq.org
SUMMARY:Board Meeting
DESCRIPTION:
URL:https://folq.org/event/board-meeting-3/2025-05-06/
END:VEVENT
BEGIN:VEVENT
DTSTART;TZID=America/New_York:20250503T100000
DTEND;TZID=America/New_York:20250503T133000
DTSTAMP:20260422T175008
CREATED:20250318T203645Z
LAST-MODIFIED:20250411T183133Z
UID:10000162-1746266400-1746279000@folq.org
SUMMARY:🌎 Green May Day at Galvin Middle School
DESCRIPTION:Friends of Lake Quannapowitt is happy to participate in Green May Day\, an event coordinated by the Wakefield Environmental Sustainability Committee and the Warrior Clean Up Crew! Help clean up litter\, discover local green initiatives\, and get inspired to make a difference. We’ll be joined by the Wakefield Garden Club\, Rotary Club\, Lucius Beebe Memorial Library\, WMGLD\, and more!\n\nThe event is open to the public and will feature:\n\nSpring Litter Pick-Up\nSustainability Showcase featuring organizations involved in keeping Wakefield green\nRefreshments\n\nSign up here.
URL:https://folq.org/event/%f0%9f%8c%8e-green-may-day-at-galvin-middle-school/
LOCATION:Galvin Middle School
ATTACH;FMTTYPE=image/jpeg:https://folq.org/wp-content/uploads/2025/03/folq-booth-2-e1742330135988.jpg
END:VEVENT
BEGIN:VEVENT
DTSTART;TZID=America/New_York:20250426T090000
DTEND;TZID=America/New_York:20250426T120000
DTSTAMP:20260422T175008
CREATED:20250213T005710Z
LAST-MODIFIED:20250425T213901Z
UID:10000158-1745658000-1745668800@folq.org
SUMMARY:🧹 CANCELLED Spring Lake Cleanup with Galvin Students
DESCRIPTION:UPDATE: Cancelled due to rain. \nThe Friends of Lake Quannapowitt and 5th and 6th graders from Galvin Middle School will partner to clean up trash and debris from the Lower Common to Veterans Field. 5th and 6th grade students and their families are invited to attend! \nStudents will receive extra credit in science class. You don’t need to bring anything but comfortable shoes and sunscreen. We provide gloves and trash bags and will share snacks and goodies with all volunteers. We hope to see you there! \nCome anytime between 9:00 am and 12:00 pm to the Band Stand at the Lower Common – look out for the Friends of Lake Quannapowitt table to get your trash bag and gloves!
URL:https://folq.org/event/spring-lake-cleanup-with-galvin-students-2/
LOCATION:Bandstand/Lower Common Lake Quannapowitt\, Church Street\, Wakefield\, MA\, 01880\, United States
ORGANIZER;CN="FOLQ":MAILTO:mail@folq.org
GEO:42.5065919;-71.0746497
X-APPLE-STRUCTURED-LOCATION;VALUE=URI;X-ADDRESS=Bandstand/Lower Common Lake Quannapowitt Church Street Wakefield MA 01880 United States;X-APPLE-RADIUS=500;X-TITLE=Church Street:geo:-71.0746497,42.5065919
END:VEVENT
BEGIN:VEVENT
DTSTART;TZID=UTC:20250401T183000
DTEND;TZID=UTC:20250401T200000
DTSTAMP:20260422T175008
CREATED:20250117T204031Z
LAST-MODIFIED:20250117T204031Z
UID:10000107-1743532200-1743537600@folq.org
SUMMARY:Board Meeting
DESCRIPTION:
URL:https://folq.org/event/board-meeting-3/2025-04-01/
END:VEVENT
BEGIN:VEVENT
DTSTART;TZID=UTC:20250304T183000
DTEND;TZID=UTC:20250304T200000
DTSTAMP:20260422T175008
CREATED:20250117T204031Z
LAST-MODIFIED:20250117T204031Z
UID:10000053-1741113000-1741118400@folq.org
SUMMARY:Board Meeting
DESCRIPTION:
URL:https://folq.org/event/board-meeting-3/2025-03-04/
END:VEVENT
BEGIN:VEVENT
DTSTART;TZID=America/New_York:20250204T183000
DTEND;TZID=America/New_York:20250204T200000
DTSTAMP:20260422T175008
CREATED:20250117T203839Z
LAST-MODIFIED:20250117T203839Z
UID:10000106-1738693800-1738699200@folq.org
SUMMARY:Board Meeting
DESCRIPTION:
URL:https://folq.org/event/board-meeting-2/
END:VEVENT
BEGIN:VEVENT
DTSTART;TZID=UTC:20250107T190000
DTEND;TZID=UTC:20250107T210000
DTSTAMP:20260422T175008
CREATED:20191003T232138Z
LAST-MODIFIED:20200106T150740Z
UID:10000052-1736276400-1736283600@folq.org
SUMMARY:Board Meeting
DESCRIPTION:
URL:https://folq.org/event/board-meeting/2025-01-07/
END:VEVENT
BEGIN:VEVENT
DTSTART;TZID=UTC:20241203T190000
DTEND;TZID=UTC:20241203T210000
DTSTAMP:20260422T175008
CREATED:20191003T232138Z
LAST-MODIFIED:20200106T150740Z
UID:10000051-1733252400-1733259600@folq.org
SUMMARY:Board Meeting
DESCRIPTION:
URL:https://folq.org/event/board-meeting/2024-12-03/
END:VEVENT
BEGIN:VEVENT
DTSTART;TZID=UTC:20241105T190000
DTEND;TZID=UTC:20241105T210000
DTSTAMP:20260422T175008
CREATED:20191003T232138Z
LAST-MODIFIED:20200106T150740Z
UID:10000050-1730833200-1730840400@folq.org
SUMMARY:Board Meeting
DESCRIPTION:
URL:https://folq.org/event/board-meeting/2024-11-05/
END:VEVENT
BEGIN:VEVENT
DTSTART;TZID=America/New_York:20241027T100000
DTEND;TZID=America/New_York:20241027T120000
DTSTAMP:20260422T175008
CREATED:20240910T141029Z
LAST-MODIFIED:20240910T141029Z
UID:10000103-1730023200-1730030400@folq.org
SUMMARY:FOLQ Weed Team Invasive Plant Work Session
DESCRIPTION:
URL:https://folq.org/event/folq-weed-team-invasive-plant-work-session-5/
END:VEVENT
BEGIN:VEVENT
DTSTART;TZID=America/New_York:20241019T090000
DTEND;TZID=America/New_York:20241019T120000
DTSTAMP:20260422T175008
CREATED:20240910T140604Z
LAST-MODIFIED:20240910T140621Z
UID:10000098-1729328400-1729339200@folq.org
SUMMARY:Fall Clean Up with Galvin Middle School
DESCRIPTION:Volunteers from FOLQ will partner with 5th and 6th graders from Galvin Middle School to clean up trash around the lake. Students should meet at the FOLQ table to receive trash bags and gloves.
URL:https://folq.org/event/fall-clean-up-with-galvin-middle-school/
END:VEVENT
BEGIN:VEVENT
DTSTART;TZID=America/New_York:20241017T170000
DTEND;TZID=America/New_York:20241017T190000
DTSTAMP:20260422T175008
CREATED:20240910T141001Z
LAST-MODIFIED:20240910T141001Z
UID:10000102-1729184400-1729191600@folq.org
SUMMARY:FOLQ Weed Team Invasive Plant Work Session
DESCRIPTION:
URL:https://folq.org/event/folq-weed-team-invasive-plant-work-session-4/
END:VEVENT
BEGIN:VEVENT
DTSTART;TZID=America/New_York:20241006T100000
DTEND;TZID=America/New_York:20241006T120000
DTSTAMP:20260422T175008
CREATED:20240910T140921Z
LAST-MODIFIED:20240910T140921Z
UID:10000101-1728208800-1728216000@folq.org
SUMMARY:FOLQ Weed Team Invasive Plant Work Session
DESCRIPTION:
URL:https://folq.org/event/folq-weed-team-invasive-plant-work-session-3/
END:VEVENT
BEGIN:VEVENT
DTSTART;TZID=UTC:20241001T190000
DTEND;TZID=UTC:20241001T210000
DTSTAMP:20260422T175008
CREATED:20191003T232138Z
LAST-MODIFIED:20200106T150740Z
UID:10000049-1727809200-1727816400@folq.org
SUMMARY:Board Meeting
DESCRIPTION:
URL:https://folq.org/event/board-meeting/2024-10-01/
END:VEVENT
BEGIN:VEVENT
DTSTART;TZID=America/New_York:20240921T130000
DTEND;TZID=America/New_York:20240921T160000
DTSTAMP:20260422T175008
CREATED:20240910T135332Z
LAST-MODIFIED:20240910T203152Z
UID:10000097-1726923600-1726934400@folq.org
SUMMARY:FOLQ at Town Day on the Common
DESCRIPTION:The Town of Wakefield and the Wakefield Area Chamber of Commerce will host Town Day on the Common on September 21\, 2024. Stop by the Friends of Lake Quannapowitt table at Town Day on the Lower Common. See the work we do\, learn about the latest happenings around the lake\, check out volunteer opportunities\, and take home some merch. \nFrom 1 to 4 p.m.\, all are invited to listen to live music\, enjoy a variety of food and beverages\, join live demos\, and browse exhibitor tables. Attendees can also stop by the flu shot clinic to get their flu vaccines. We look forward to seeing you at this family-friendly event. The rain date is September 28.
URL:https://folq.org/event/folq-at-town-day/
END:VEVENT
BEGIN:VEVENT
DTSTART;TZID=America/New_York:20240917T180000
DTEND;TZID=America/New_York:20240917T200000
DTSTAMP:20260422T175008
CREATED:20240910T140838Z
LAST-MODIFIED:20240910T140838Z
UID:10000100-1726596000-1726603200@folq.org
SUMMARY:FOLQ Weed Team Invasive Plant Work Session
DESCRIPTION:
URL:https://folq.org/event/folq-weed-team-invasive-plant-work-session-2/
END:VEVENT
BEGIN:VEVENT
DTSTART;TZID=America/New_York:20240908T100000
DTEND;TZID=America/New_York:20240908T120000
DTSTAMP:20260422T175008
CREATED:20240910T140730Z
LAST-MODIFIED:20240910T140730Z
UID:10000099-1725789600-1725796800@folq.org
SUMMARY:FOLQ Weed Team Invasive Plant Work Session
DESCRIPTION:
URL:https://folq.org/event/folq-weed-team-invasive-plant-work-session/
END:VEVENT
BEGIN:VEVENT
DTSTART;TZID=UTC:20240903T190000
DTEND;TZID=UTC:20240903T210000
DTSTAMP:20260422T175008
CREATED:20191003T232138Z
LAST-MODIFIED:20200106T150740Z
UID:10000048-1725390000-1725397200@folq.org
SUMMARY:Board Meeting
DESCRIPTION:
URL:https://folq.org/event/board-meeting/2024-09-03/
END:VEVENT
BEGIN:VEVENT
DTSTART;TZID=America/New_York:20240711T180000
DTEND;TZID=America/New_York:20240711T200000
DTSTAMP:20260422T175008
CREATED:20240604T164326Z
LAST-MODIFIED:20240622T103242Z
UID:10000095-1720720800-1720728000@folq.org
SUMMARY:Free Learn to Fish Session at Lake Quannapowitt
DESCRIPTION:JUNE 22 UPDATE: This event is now full. Registration has closed. \nFOLQ is thrilled to partner with MassWildlife to host a “Learn to Fish” event for ages 5 and up.\nThis free\, family friendly fishing class at Lake Quannapowitt from 6:00 – 8:00 PM will occur before the beginning of that night’s Movie by the Lake\, which will be a showing of Toy Story 4. \nDetails\nJuly 11th\, 6:00 – 8:00pm\nLower Common\, Lake Quannapowitt\nPre-registration Required\nCost: Free! \nWhat to Expect\nHave you ever wanted to learn how to fish? Now’s your chance! Let the MassWildlife Angler Education Program be your guide. We’ll have equipment on hand for use\, as well as terminal tackle\, and live bait. You’ll learn the basics\, from casting out\, to baiting up\, and the best part – you’ll be able to fish. So come try your hand at this great pastime\, guaranteed to catch some fun! \nLocation\nSpaulding Playground area on the shoreline of Lake Quannapowitt. Spaulding Playground is off of Church Street in Wakefield. \nAll Ages Welcome\nThis is NOT exclusively a kid’s program. It is a program for people of all ages that want to learn how to fish. If your child is 15 or younger\, he/she must be accompanied by an adult. \nRegistration is full.
URL:https://folq.org/event/free-learn-to-fish-session-at-lake-quannapowitt/
LOCATION:Bandstand/Lower Common Lake Quannapowitt\, Church Street\, Wakefield\, MA\, 01880\, United States
ATTACH;FMTTYPE=image/jpeg:https://folq.org/wp-content/uploads/2024/06/learn-to-fish-kids.jpg
ORGANIZER;CN="FOLQ":MAILTO:mail@folq.org
GEO:42.5065919;-71.0746497
X-APPLE-STRUCTURED-LOCATION;VALUE=URI;X-ADDRESS=Bandstand/Lower Common Lake Quannapowitt Church Street Wakefield MA 01880 United States;X-APPLE-RADIUS=500;X-TITLE=Church Street:geo:-71.0746497,42.5065919
END:VEVENT
BEGIN:VEVENT
DTSTART;TZID=UTC:20240702T190000
DTEND;TZID=UTC:20240702T210000
DTSTAMP:20260422T175008
CREATED:20191003T232138Z
LAST-MODIFIED:20200106T150740Z
UID:10000047-1719946800-1719954000@folq.org
SUMMARY:Board Meeting
DESCRIPTION:
URL:https://folq.org/event/board-meeting/2024-07-02/
END:VEVENT
BEGIN:VEVENT
DTSTART;TZID=UTC:20240604T190000
DTEND;TZID=UTC:20240604T210000
DTSTAMP:20260422T175008
CREATED:20191003T232138Z
LAST-MODIFIED:20200106T150740Z
UID:10000046-1717527600-1717534800@folq.org
SUMMARY:Board Meeting
DESCRIPTION:
URL:https://folq.org/event/board-meeting/2024-06-04/
END:VEVENT
BEGIN:VEVENT
DTSTART;TZID=UTC:20240529T173000
DTEND;TZID=UTC:20240529T200000
DTSTAMP:20260422T175008
CREATED:20240305T154924Z
LAST-MODIFIED:20240429T210121Z
UID:10000092-1717003800-1717012800@folq.org
SUMMARY:Annual Meeting & Dinner
DESCRIPTION:Save the date! Wednesday\, May 29 at 5:30 pm\nThe Friends of Lake Quannapowitt invite all community members to join us at our Annual Meeting and Presentation at Bear Hill Golf Club in Stoneham on Wednesday\, May 29th\, 2024. All are welcome. Guests will enjoy dinner and participate in the business meeting\, followed by an educational presentation and discussion. Purchase tickets here. \nWe are thrilled that our educational presentation this year will be from members of the Friends of Horn Pond in Woburn\, who will explain their important work in limiting wildlife injuries and fatalities from left behind shoreline fishing line\, lures and hooks. In addition\, a Wakefield resident and professional wildlife photographer will discuss the changing nature of our local wildlife populations\, including her story of two Bald Eagles she has followed for 8 years in Wakefield. Her poignant\, gorgeous photography will be on display. \nMeeting Agenda: \n\n5:30 Cash Bar/Social Hour\n6:15 Buffet Dinner\n7:00 Business Meeting\n7:15 Presentation by Friends of Horn Pond\n\nThere is no charge if you are only attending the Speaker Presentation at 7:15. \nWe sincerely hope you can join us for an educational and inspirational evening. Your attendance helps us achieve our mission of educating and informing the public about the protection and enhancement of Lake Quannapowitt and its surrounding environment. \nPurchase Tickets\nPictured: Friends of Horn Pond’s experience with fishing line entanglements and their efforts to greatly reduce the problem. \n \nCheck out details from 2023’s gathering\, including the water quality presentation by Solitude Lake Management. \n 
URL:https://folq.org/event/annual-business-meeting-dinner/
LOCATION:Bear Hill Golf Club\, 2 North St\, Stoneham\, 02180\, United States
END:VEVENT
BEGIN:VEVENT
DTSTART;VALUE=DATE:20240528
DTEND;VALUE=DATE:20240608
DTSTAMP:20260422T175008
CREATED:20240305T155552Z
LAST-MODIFIED:20240305T155805Z
UID:10000094-1716854400-1717804799@folq.org
SUMMARY:Watershed Field Trips with Galvin Students
DESCRIPTION:The Friends of Lake Quannapowitt will accompany 5th graders from Galvin Middle School to Camp Nihan in Saugus to study the larger watershed of Lake Quannapowitt and to conduct scientific experiments like water testing. \n  \nRead more about this fantastic tradition.
URL:https://folq.org/event/watershed-field-trips-with-galvin-students/
ORGANIZER;CN="FOLQ":MAILTO:mail@folq.org
END:VEVENT
BEGIN:VEVENT
DTSTART;TZID=UTC:20240507T190000
DTEND;TZID=UTC:20240507T210000
DTSTAMP:20260422T175008
CREATED:20191003T232138Z
LAST-MODIFIED:20200106T150740Z
UID:10000045-1715108400-1715115600@folq.org
SUMMARY:Board Meeting
DESCRIPTION:
URL:https://folq.org/event/board-meeting/2024-05-07/
END:VEVENT
BEGIN:VEVENT
DTSTART;TZID=America/New_York:20240427T090000
DTEND;TZID=America/New_York:20240427T120000
DTSTAMP:20260422T175008
CREATED:20240305T155139Z
LAST-MODIFIED:20240408T135727Z
UID:10000093-1714208400-1714219200@folq.org
SUMMARY:Spring Lake Cleanup with Galvin Students
DESCRIPTION:The Friends of Lake Quannapowitt and 5th and 6th graders from Galvin Middle School will partner to clean up trash and debris from the Veterans Field to the Lower Common. Rain date: May 4.  \n5th and 6th grade students and their families are invited to attend! You don’t need to bring anything but comfortable shoes and sunscreen. We provide gloves and trash bags and will share snacks and goodies with all volunteers. We hope to see you there!
URL:https://folq.org/event/spring-lake-cleanup-with-galvin-students/
LOCATION:Bandstand/Lower Common Lake Quannapowitt\, Church Street\, Wakefield\, MA\, 01880\, United States
ORGANIZER;CN="FOLQ":MAILTO:mail@folq.org
GEO:42.5065919;-71.0746497
X-APPLE-STRUCTURED-LOCATION;VALUE=URI;X-ADDRESS=Bandstand/Lower Common Lake Quannapowitt Church Street Wakefield MA 01880 United States;X-APPLE-RADIUS=500;X-TITLE=Church Street:geo:-71.0746497,42.5065919
END:VEVENT
BEGIN:VEVENT
DTSTART;TZID=UTC:20240402T190000
DTEND;TZID=UTC:20240402T210000
DTSTAMP:20260422T175008
CREATED:20191003T232138Z
LAST-MODIFIED:20200106T150740Z
UID:10000044-1712084400-1712091600@folq.org
SUMMARY:Board Meeting
DESCRIPTION:
URL:https://folq.org/event/board-meeting/2024-04-02/
END:VEVENT
BEGIN:VEVENT
DTSTART;TZID=UTC:20240305T190000
DTEND;TZID=UTC:20240305T210000
DTSTAMP:20260422T175008
CREATED:20191003T232138Z
LAST-MODIFIED:20200106T150740Z
UID:10000043-1709665200-1709672400@folq.org
SUMMARY:Board Meeting
DESCRIPTION:
URL:https://folq.org/event/board-meeting/2024-03-05/
END:VEVENT
BEGIN:VEVENT
DTSTART;TZID=UTC:20240102T190000
DTEND;TZID=UTC:20240102T210000
DTSTAMP:20260422T175008
CREATED:20191003T232138Z
LAST-MODIFIED:20200106T150740Z
UID:10000042-1704222000-1704229200@folq.org
SUMMARY:Board Meeting
DESCRIPTION:
URL:https://folq.org/event/board-meeting/2024-01-02/
END:VEVENT
BEGIN:VEVENT
DTSTART;TZID=UTC:20231205T190000
DTEND;TZID=UTC:20231205T210000
DTSTAMP:20260422T175008
CREATED:20191003T232138Z
LAST-MODIFIED:20200106T150740Z
UID:10000041-1701802800-1701810000@folq.org
SUMMARY:Board Meeting
DESCRIPTION:
URL:https://folq.org/event/board-meeting/2023-12-05/
END:VEVENT
BEGIN:VEVENT
DTSTART;TZID=UTC:20231107T190000
DTEND;TZID=UTC:20231107T210000
DTSTAMP:20260422T175008
CREATED:20191003T232138Z
LAST-MODIFIED:20200106T150740Z
UID:10000040-1699383600-1699390800@folq.org
SUMMARY:Board Meeting
DESCRIPTION:
URL:https://folq.org/event/board-meeting/2023-11-07/
END:VEVENT
END:VCALENDAR