BEGIN:VCALENDAR
VERSION:2.0
PRODID:-//Friends of Lake Quannapowitt - ECPv6.15.18//NONSGML v1.0//EN
CALSCALE:GREGORIAN
METHOD:PUBLISH
X-WR-CALNAME:Friends of Lake Quannapowitt
X-ORIGINAL-URL:https://folq.org
X-WR-CALDESC:Events for Friends of Lake Quannapowitt
REFRESH-INTERVAL;VALUE=DURATION:PT1H
X-Robots-Tag:noindex
X-PUBLISHED-TTL:PT1H
BEGIN:VTIMEZONE
TZID:UTC
BEGIN:STANDARD
TZOFFSETFROM:+0000
TZOFFSETTO:+0000
TZNAME:UTC
DTSTART:20270101T000000
END:STANDARD
END:VTIMEZONE
BEGIN:VEVENT
DTSTART;TZID=UTC:20280905T183000
DTEND;TZID=UTC:20280905T200000
DTSTAMP:20260421T203637
CREATED:20250117T204031Z
LAST-MODIFIED:20250117T204031Z
UID:10000142-1851791400-1851796800@folq.org
SUMMARY:Board Meeting
DESCRIPTION:
URL:https://folq.org/event/board-meeting-3/2028-09-05/
END:VEVENT
BEGIN:VEVENT
DTSTART;TZID=UTC:20281003T183000
DTEND;TZID=UTC:20281003T200000
DTSTAMP:20260421T203637
CREATED:20250117T204031Z
LAST-MODIFIED:20250117T204031Z
UID:10000143-1854210600-1854216000@folq.org
SUMMARY:Board Meeting
DESCRIPTION:
URL:https://folq.org/event/board-meeting-3/2028-10-03/
END:VEVENT
BEGIN:VEVENT
DTSTART;TZID=UTC:20281107T183000
DTEND;TZID=UTC:20281107T200000
DTSTAMP:20260421T203637
CREATED:20250117T204031Z
LAST-MODIFIED:20250117T204031Z
UID:10000144-1857234600-1857240000@folq.org
SUMMARY:Board Meeting
DESCRIPTION:
URL:https://folq.org/event/board-meeting-3/2028-11-07/
END:VEVENT
BEGIN:VEVENT
DTSTART;TZID=UTC:20281205T183000
DTEND;TZID=UTC:20281205T200000
DTSTAMP:20260421T203637
CREATED:20250117T204031Z
LAST-MODIFIED:20250117T204031Z
UID:10000145-1859653800-1859659200@folq.org
SUMMARY:Board Meeting
DESCRIPTION:
URL:https://folq.org/event/board-meeting-3/2028-12-05/
END:VEVENT
BEGIN:VEVENT
DTSTART;TZID=UTC:20290102T183000
DTEND;TZID=UTC:20290102T200000
DTSTAMP:20260421T203637
CREATED:20250117T204031Z
LAST-MODIFIED:20250117T204031Z
UID:10000146-1862073000-1862078400@folq.org
SUMMARY:Board Meeting
DESCRIPTION:
URL:https://folq.org/event/board-meeting-3/2029-01-02/
END:VEVENT
BEGIN:VEVENT
DTSTART;TZID=UTC:20290306T183000
DTEND;TZID=UTC:20290306T200000
DTSTAMP:20260421T203637
CREATED:20250117T204031Z
LAST-MODIFIED:20250117T204031Z
UID:10000147-1867516200-1867521600@folq.org
SUMMARY:Board Meeting
DESCRIPTION:
URL:https://folq.org/event/board-meeting-3/2029-03-06/
END:VEVENT
BEGIN:VEVENT
DTSTART;TZID=UTC:20290403T183000
DTEND;TZID=UTC:20290403T200000
DTSTAMP:20260421T203637
CREATED:20250117T204031Z
LAST-MODIFIED:20250117T204031Z
UID:10000148-1869935400-1869940800@folq.org
SUMMARY:Board Meeting
DESCRIPTION:
URL:https://folq.org/event/board-meeting-3/2029-04-03/
END:VEVENT
BEGIN:VEVENT
DTSTART;TZID=UTC:20290501T183000
DTEND;TZID=UTC:20290501T200000
DTSTAMP:20260421T203637
CREATED:20250117T204031Z
LAST-MODIFIED:20250117T204031Z
UID:10000149-1872354600-1872360000@folq.org
SUMMARY:Board Meeting
DESCRIPTION:
URL:https://folq.org/event/board-meeting-3/2029-05-01/
END:VEVENT
BEGIN:VEVENT
DTSTART;TZID=UTC:20290605T183000
DTEND;TZID=UTC:20290605T200000
DTSTAMP:20260421T203637
CREATED:20250117T204031Z
LAST-MODIFIED:20250117T204031Z
UID:10000150-1875378600-1875384000@folq.org
SUMMARY:Board Meeting
DESCRIPTION:
URL:https://folq.org/event/board-meeting-3/2029-06-05/
END:VEVENT
BEGIN:VEVENT
DTSTART;TZID=UTC:20290703T183000
DTEND;TZID=UTC:20290703T200000
DTSTAMP:20260421T203637
CREATED:20250117T204031Z
LAST-MODIFIED:20250117T204031Z
UID:10000151-1877797800-1877803200@folq.org
SUMMARY:Board Meeting
DESCRIPTION:
URL:https://folq.org/event/board-meeting-3/2029-07-03/
END:VEVENT
BEGIN:VEVENT
DTSTART;TZID=UTC:20290807T183000
DTEND;TZID=UTC:20290807T200000
DTSTAMP:20260421T203637
CREATED:20250117T204031Z
LAST-MODIFIED:20250117T204031Z
UID:10000152-1880821800-1880827200@folq.org
SUMMARY:Board Meeting
DESCRIPTION:
URL:https://folq.org/event/board-meeting-3/2029-08-07/
END:VEVENT
BEGIN:VEVENT
DTSTART;TZID=UTC:20290904T183000
DTEND;TZID=UTC:20290904T200000
DTSTAMP:20260421T203637
CREATED:20250117T204031Z
LAST-MODIFIED:20250117T204031Z
UID:10000153-1883241000-1883246400@folq.org
SUMMARY:Board Meeting
DESCRIPTION:
URL:https://folq.org/event/board-meeting-3/2029-09-04/
END:VEVENT
BEGIN:VEVENT
DTSTART;TZID=UTC:20291002T183000
DTEND;TZID=UTC:20291002T200000
DTSTAMP:20260421T203637
CREATED:20250117T204031Z
LAST-MODIFIED:20250117T204031Z
UID:10000154-1885660200-1885665600@folq.org
SUMMARY:Board Meeting
DESCRIPTION:
URL:https://folq.org/event/board-meeting-3/2029-10-02/
END:VEVENT
BEGIN:VEVENT
DTSTART;TZID=UTC:20291106T183000
DTEND;TZID=UTC:20291106T200000
DTSTAMP:20260421T203637
CREATED:20250117T204031Z
LAST-MODIFIED:20250117T204031Z
UID:10000155-1888684200-1888689600@folq.org
SUMMARY:Board Meeting
DESCRIPTION:
URL:https://folq.org/event/board-meeting-3/2029-11-06/
END:VEVENT
BEGIN:VEVENT
DTSTART;TZID=UTC:20291204T183000
DTEND;TZID=UTC:20291204T200000
DTSTAMP:20260421T203637
CREATED:20250117T204031Z
LAST-MODIFIED:20250117T204031Z
UID:10000156-1891103400-1891108800@folq.org
SUMMARY:Board Meeting
DESCRIPTION:
URL:https://folq.org/event/board-meeting-3/2029-12-04/
END:VEVENT
BEGIN:VEVENT
DTSTART;TZID=UTC:20300101T183000
DTEND;TZID=UTC:20300101T200000
DTSTAMP:20260421T203637
CREATED:20250117T204031Z
LAST-MODIFIED:20250117T204031Z
UID:10000157-1893522600-1893528000@folq.org
SUMMARY:Board Meeting
DESCRIPTION:
URL:https://folq.org/event/board-meeting-3/2030-01-01/
END:VEVENT
BEGIN:VEVENT
DTSTART;TZID=UTC:20300305T183000
DTEND;TZID=UTC:20300305T200000
DTSTAMP:20260421T203637
CREATED:20250117T204031Z
LAST-MODIFIED:20250117T204031Z
UID:10000180-1898965800-1898971200@folq.org
SUMMARY:Board Meeting
DESCRIPTION:
URL:https://folq.org/event/board-meeting-3/2030-03-05/
END:VEVENT
BEGIN:VEVENT
DTSTART;TZID=UTC:20300402T183000
DTEND;TZID=UTC:20300402T200000
DTSTAMP:20260421T203637
CREATED:20250117T204031Z
LAST-MODIFIED:20250117T204031Z
UID:10000181-1901385000-1901390400@folq.org
SUMMARY:Board Meeting
DESCRIPTION:
URL:https://folq.org/event/board-meeting-3/2030-04-02/
END:VEVENT
BEGIN:VEVENT
DTSTART;TZID=UTC:20300507T183000
DTEND;TZID=UTC:20300507T200000
DTSTAMP:20260421T203637
CREATED:20250117T204031Z
LAST-MODIFIED:20250117T204031Z
UID:10000182-1904409000-1904414400@folq.org
SUMMARY:Board Meeting
DESCRIPTION:
URL:https://folq.org/event/board-meeting-3/2030-05-07/
END:VEVENT
BEGIN:VEVENT
DTSTART;TZID=UTC:20300604T183000
DTEND;TZID=UTC:20300604T200000
DTSTAMP:20260421T203637
CREATED:20250117T204031Z
LAST-MODIFIED:20250117T204031Z
UID:10000183-1906828200-1906833600@folq.org
SUMMARY:Board Meeting
DESCRIPTION:
URL:https://folq.org/event/board-meeting-3/2030-06-04/
END:VEVENT
BEGIN:VEVENT
DTSTART;TZID=UTC:20300702T183000
DTEND;TZID=UTC:20300702T200000
DTSTAMP:20260421T203637
CREATED:20250117T204031Z
LAST-MODIFIED:20250117T204031Z
UID:10000184-1909247400-1909252800@folq.org
SUMMARY:Board Meeting
DESCRIPTION:
URL:https://folq.org/event/board-meeting-3/2030-07-02/
END:VEVENT
BEGIN:VEVENT
DTSTART;TZID=UTC:20300806T183000
DTEND;TZID=UTC:20300806T200000
DTSTAMP:20260421T203637
CREATED:20250117T204031Z
LAST-MODIFIED:20250117T204031Z
UID:10000185-1912271400-1912276800@folq.org
SUMMARY:Board Meeting
DESCRIPTION:
URL:https://folq.org/event/board-meeting-3/2030-08-06/
END:VEVENT
BEGIN:VEVENT
DTSTART;TZID=UTC:20300903T183000
DTEND;TZID=UTC:20300903T200000
DTSTAMP:20260421T203637
CREATED:20250117T204031Z
LAST-MODIFIED:20250117T204031Z
UID:10000186-1914690600-1914696000@folq.org
SUMMARY:Board Meeting
DESCRIPTION:
URL:https://folq.org/event/board-meeting-3/2030-09-03/
END:VEVENT
BEGIN:VEVENT
DTSTART;TZID=UTC:20301001T183000
DTEND;TZID=UTC:20301001T200000
DTSTAMP:20260421T203637
CREATED:20250117T204031Z
LAST-MODIFIED:20250117T204031Z
UID:10000187-1917109800-1917115200@folq.org
SUMMARY:Board Meeting
DESCRIPTION:
URL:https://folq.org/event/board-meeting-3/2030-10-01/
END:VEVENT
BEGIN:VEVENT
DTSTART;TZID=UTC:20301105T183000
DTEND;TZID=UTC:20301105T200000
DTSTAMP:20260421T203637
CREATED:20250117T204031Z
LAST-MODIFIED:20250117T204031Z
UID:10000188-1920133800-1920139200@folq.org
SUMMARY:Board Meeting
DESCRIPTION:
URL:https://folq.org/event/board-meeting-3/2030-11-05/
END:VEVENT
BEGIN:VEVENT
DTSTART;TZID=UTC:20301203T183000
DTEND;TZID=UTC:20301203T200000
DTSTAMP:20260421T203637
CREATED:20250117T204031Z
LAST-MODIFIED:20250117T204031Z
UID:10000189-1922553000-1922558400@folq.org
SUMMARY:Board Meeting
DESCRIPTION:
URL:https://folq.org/event/board-meeting-3/2030-12-03/
END:VEVENT
BEGIN:VEVENT
DTSTART;TZID=UTC:20310107T183000
DTEND;TZID=UTC:20310107T200000
DTSTAMP:20260421T203637
CREATED:20250117T204031Z
LAST-MODIFIED:20250117T204031Z
UID:10000190-1925577000-1925582400@folq.org
SUMMARY:Board Meeting
DESCRIPTION:
URL:https://folq.org/event/board-meeting-3/2031-01-07/
END:VEVENT
END:VCALENDAR