BEGIN:VCALENDAR
VERSION:2.0
PRODID:-//Friends of Lake Quannapowitt - ECPv6.15.18//NONSGML v1.0//EN
CALSCALE:GREGORIAN
METHOD:PUBLISH
X-WR-CALNAME:Friends of Lake Quannapowitt
X-ORIGINAL-URL:https://folq.org
X-WR-CALDESC:Events for Friends of Lake Quannapowitt
REFRESH-INTERVAL;VALUE=DURATION:PT1H
X-Robots-Tag:noindex
X-PUBLISHED-TTL:PT1H
BEGIN:VTIMEZONE
TZID:UTC
BEGIN:STANDARD
TZOFFSETFROM:+0000
TZOFFSETTO:+0000
TZNAME:UTC
DTSTART:20250101T000000
END:STANDARD
END:VTIMEZONE
BEGIN:VTIMEZONE
TZID:America/New_York
BEGIN:DAYLIGHT
TZOFFSETFROM:-0500
TZOFFSETTO:-0400
TZNAME:EDT
DTSTART:20250309T070000
END:DAYLIGHT
BEGIN:STANDARD
TZOFFSETFROM:-0400
TZOFFSETTO:-0500
TZNAME:EST
DTSTART:20251102T060000
END:STANDARD
BEGIN:DAYLIGHT
TZOFFSETFROM:-0500
TZOFFSETTO:-0400
TZNAME:EDT
DTSTART:20260308T070000
END:DAYLIGHT
BEGIN:STANDARD
TZOFFSETFROM:-0400
TZOFFSETTO:-0500
TZNAME:EST
DTSTART:20261101T060000
END:STANDARD
BEGIN:DAYLIGHT
TZOFFSETFROM:-0500
TZOFFSETTO:-0400
TZNAME:EDT
DTSTART:20270314T070000
END:DAYLIGHT
BEGIN:STANDARD
TZOFFSETFROM:-0400
TZOFFSETTO:-0500
TZNAME:EST
DTSTART:20271107T060000
END:STANDARD
END:VTIMEZONE
BEGIN:VEVENT
DTSTART;TZID=UTC:20260901T183000
DTEND;TZID=UTC:20260901T200000
DTSTAMP:20260421T170300
CREATED:20250117T204031Z
LAST-MODIFIED:20250117T204031Z
UID:10000121-1788287400-1788292800@folq.org
SUMMARY:Board Meeting
DESCRIPTION:
URL:https://folq.org/event/board-meeting-3/2026-09-01/
END:VEVENT
BEGIN:VEVENT
DTSTART;TZID=America/New_York:20260926T130000
DTEND;TZID=America/New_York:20260926T160000
DTSTAMP:20260421T170300
CREATED:20260402T185041Z
LAST-MODIFIED:20260402T185041Z
UID:10000196-1790427600-1790438400@folq.org
SUMMARY:🎪 FOLQ at Town Day on the Common
DESCRIPTION:The Town of Wakefield and the Wakefield Area Chamber of Commerce will host Town Day on the Common. Stop by the Friends of Lake Quannapowitt table at Town Day on the Lower Common. See the work we do\, learn about the latest happenings around the lake\, check out volunteer opportunities\, and take home some fresh merchandise! All proceeds benefit FOLQ’s efforts because we are a nonprofit\, 100% volunteer organization. \nFrom 1 to 4 p.m.\, all are invited to listen to live music\, enjoy a variety of food and beverages\, join live demos\, and browse exhibitor tables.
URL:https://folq.org/event/%f0%9f%8e%aa-folq-at-town-day-on-the-common-2/
LOCATION:Bandstand/Lower Common Lake Quannapowitt\, Church Street\, Wakefield\, MA\, 01880\, United States
GEO:42.5065919;-71.0746497
X-APPLE-STRUCTURED-LOCATION;VALUE=URI;X-ADDRESS=Bandstand/Lower Common Lake Quannapowitt Church Street Wakefield MA 01880 United States;X-APPLE-RADIUS=500;X-TITLE=Church Street:geo:-71.0746497,42.5065919
END:VEVENT
BEGIN:VEVENT
DTSTART;TZID=UTC:20261006T183000
DTEND;TZID=UTC:20261006T200000
DTSTAMP:20260421T170300
CREATED:20250117T204031Z
LAST-MODIFIED:20250117T204031Z
UID:10000122-1791311400-1791316800@folq.org
SUMMARY:Board Meeting
DESCRIPTION:
URL:https://folq.org/event/board-meeting-3/2026-10-06/
END:VEVENT
BEGIN:VEVENT
DTSTART;TZID=UTC:20261103T183000
DTEND;TZID=UTC:20261103T200000
DTSTAMP:20260421T170300
CREATED:20250117T204031Z
LAST-MODIFIED:20250117T204031Z
UID:10000123-1793730600-1793736000@folq.org
SUMMARY:Board Meeting
DESCRIPTION:
URL:https://folq.org/event/board-meeting-3/2026-11-03/
END:VEVENT
BEGIN:VEVENT
DTSTART;TZID=UTC:20261201T183000
DTEND;TZID=UTC:20261201T200000
DTSTAMP:20260421T170300
CREATED:20250117T204031Z
LAST-MODIFIED:20250117T204031Z
UID:10000124-1796149800-1796155200@folq.org
SUMMARY:Board Meeting
DESCRIPTION:
URL:https://folq.org/event/board-meeting-3/2026-12-01/
END:VEVENT
BEGIN:VEVENT
DTSTART;TZID=UTC:20270105T183000
DTEND;TZID=UTC:20270105T200000
DTSTAMP:20260421T170300
CREATED:20250117T204031Z
LAST-MODIFIED:20250117T204031Z
UID:10000125-1799173800-1799179200@folq.org
SUMMARY:Board Meeting
DESCRIPTION:
URL:https://folq.org/event/board-meeting-3/2027-01-05/
END:VEVENT
BEGIN:VEVENT
DTSTART;TZID=UTC:20270302T183000
DTEND;TZID=UTC:20270302T200000
DTSTAMP:20260421T170300
CREATED:20250117T204031Z
LAST-MODIFIED:20250117T204031Z
UID:10000126-1804012200-1804017600@folq.org
SUMMARY:Board Meeting
DESCRIPTION:
URL:https://folq.org/event/board-meeting-3/2027-03-02/
END:VEVENT
BEGIN:VEVENT
DTSTART;TZID=UTC:20270406T183000
DTEND;TZID=UTC:20270406T200000
DTSTAMP:20260421T170300
CREATED:20250117T204031Z
LAST-MODIFIED:20250117T204031Z
UID:10000127-1807036200-1807041600@folq.org
SUMMARY:Board Meeting
DESCRIPTION:
URL:https://folq.org/event/board-meeting-3/2027-04-06/
END:VEVENT
BEGIN:VEVENT
DTSTART;TZID=UTC:20270504T183000
DTEND;TZID=UTC:20270504T200000
DTSTAMP:20260421T170300
CREATED:20250117T204031Z
LAST-MODIFIED:20250117T204031Z
UID:10000128-1809455400-1809460800@folq.org
SUMMARY:Board Meeting
DESCRIPTION:
URL:https://folq.org/event/board-meeting-3/2027-05-04/
END:VEVENT
BEGIN:VEVENT
DTSTART;TZID=UTC:20270601T183000
DTEND;TZID=UTC:20270601T200000
DTSTAMP:20260421T170300
CREATED:20250117T204031Z
LAST-MODIFIED:20250117T204031Z
UID:10000129-1811874600-1811880000@folq.org
SUMMARY:Board Meeting
DESCRIPTION:
URL:https://folq.org/event/board-meeting-3/2027-06-01/
END:VEVENT
BEGIN:VEVENT
DTSTART;TZID=UTC:20270706T183000
DTEND;TZID=UTC:20270706T200000
DTSTAMP:20260421T170300
CREATED:20250117T204031Z
LAST-MODIFIED:20250117T204031Z
UID:10000130-1814898600-1814904000@folq.org
SUMMARY:Board Meeting
DESCRIPTION:
URL:https://folq.org/event/board-meeting-3/2027-07-06/
END:VEVENT
BEGIN:VEVENT
DTSTART;TZID=UTC:20270907T183000
DTEND;TZID=UTC:20270907T200000
DTSTAMP:20260421T170300
CREATED:20250117T204031Z
LAST-MODIFIED:20250117T204031Z
UID:10000131-1820341800-1820347200@folq.org
SUMMARY:Board Meeting
DESCRIPTION:
URL:https://folq.org/event/board-meeting-3/2027-09-07/
END:VEVENT
BEGIN:VEVENT
DTSTART;TZID=UTC:20271005T183000
DTEND;TZID=UTC:20271005T200000
DTSTAMP:20260421T170300
CREATED:20250117T204031Z
LAST-MODIFIED:20250117T204031Z
UID:10000132-1822761000-1822766400@folq.org
SUMMARY:Board Meeting
DESCRIPTION:
URL:https://folq.org/event/board-meeting-3/2027-10-05/
END:VEVENT
BEGIN:VEVENT
DTSTART;TZID=UTC:20271102T183000
DTEND;TZID=UTC:20271102T200000
DTSTAMP:20260421T170300
CREATED:20250117T204031Z
LAST-MODIFIED:20250117T204031Z
UID:10000133-1825180200-1825185600@folq.org
SUMMARY:Board Meeting
DESCRIPTION:
URL:https://folq.org/event/board-meeting-3/2027-11-02/
END:VEVENT
BEGIN:VEVENT
DTSTART;TZID=UTC:20271207T183000
DTEND;TZID=UTC:20271207T200000
DTSTAMP:20260421T170300
CREATED:20250117T204031Z
LAST-MODIFIED:20250117T204031Z
UID:10000134-1828204200-1828209600@folq.org
SUMMARY:Board Meeting
DESCRIPTION:
URL:https://folq.org/event/board-meeting-3/2027-12-07/
END:VEVENT
BEGIN:VEVENT
DTSTART;TZID=UTC:20280104T183000
DTEND;TZID=UTC:20280104T200000
DTSTAMP:20260421T170300
CREATED:20250117T204031Z
LAST-MODIFIED:20250117T204031Z
UID:10000135-1830623400-1830628800@folq.org
SUMMARY:Board Meeting
DESCRIPTION:
URL:https://folq.org/event/board-meeting-3/2028-01-04/
END:VEVENT
BEGIN:VEVENT
DTSTART;TZID=UTC:20280307T183000
DTEND;TZID=UTC:20280307T200000
DTSTAMP:20260421T170300
CREATED:20250117T204031Z
LAST-MODIFIED:20250117T204031Z
UID:10000136-1836066600-1836072000@folq.org
SUMMARY:Board Meeting
DESCRIPTION:
URL:https://folq.org/event/board-meeting-3/2028-03-07/
END:VEVENT
BEGIN:VEVENT
DTSTART;TZID=UTC:20280404T183000
DTEND;TZID=UTC:20280404T200000
DTSTAMP:20260421T170300
CREATED:20250117T204031Z
LAST-MODIFIED:20250117T204031Z
UID:10000137-1838485800-1838491200@folq.org
SUMMARY:Board Meeting
DESCRIPTION:
URL:https://folq.org/event/board-meeting-3/2028-04-04/
END:VEVENT
BEGIN:VEVENT
DTSTART;TZID=UTC:20280502T183000
DTEND;TZID=UTC:20280502T200000
DTSTAMP:20260421T170300
CREATED:20250117T204031Z
LAST-MODIFIED:20250117T204031Z
UID:10000138-1840905000-1840910400@folq.org
SUMMARY:Board Meeting
DESCRIPTION:
URL:https://folq.org/event/board-meeting-3/2028-05-02/
END:VEVENT
BEGIN:VEVENT
DTSTART;TZID=UTC:20280606T183000
DTEND;TZID=UTC:20280606T200000
DTSTAMP:20260421T170300
CREATED:20250117T204031Z
LAST-MODIFIED:20250117T204031Z
UID:10000139-1843929000-1843934400@folq.org
SUMMARY:Board Meeting
DESCRIPTION:
URL:https://folq.org/event/board-meeting-3/2028-06-06/
END:VEVENT
BEGIN:VEVENT
DTSTART;TZID=UTC:20280704T183000
DTEND;TZID=UTC:20280704T200000
DTSTAMP:20260421T170300
CREATED:20250117T204031Z
LAST-MODIFIED:20250117T204031Z
UID:10000140-1846348200-1846353600@folq.org
SUMMARY:Board Meeting
DESCRIPTION:
URL:https://folq.org/event/board-meeting-3/2028-07-04/
END:VEVENT
BEGIN:VEVENT
DTSTART;TZID=UTC:20280801T183000
DTEND;TZID=UTC:20280801T200000
DTSTAMP:20260421T170300
CREATED:20250117T204031Z
LAST-MODIFIED:20250117T204031Z
UID:10000141-1848767400-1848772800@folq.org
SUMMARY:Board Meeting
DESCRIPTION:
URL:https://folq.org/event/board-meeting-3/2028-08-01/
END:VEVENT
BEGIN:VEVENT
DTSTART;TZID=UTC:20280905T183000
DTEND;TZID=UTC:20280905T200000
DTSTAMP:20260421T170300
CREATED:20250117T204031Z
LAST-MODIFIED:20250117T204031Z
UID:10000142-1851791400-1851796800@folq.org
SUMMARY:Board Meeting
DESCRIPTION:
URL:https://folq.org/event/board-meeting-3/2028-09-05/
END:VEVENT
BEGIN:VEVENT
DTSTART;TZID=UTC:20281003T183000
DTEND;TZID=UTC:20281003T200000
DTSTAMP:20260421T170300
CREATED:20250117T204031Z
LAST-MODIFIED:20250117T204031Z
UID:10000143-1854210600-1854216000@folq.org
SUMMARY:Board Meeting
DESCRIPTION:
URL:https://folq.org/event/board-meeting-3/2028-10-03/
END:VEVENT
BEGIN:VEVENT
DTSTART;TZID=UTC:20281107T183000
DTEND;TZID=UTC:20281107T200000
DTSTAMP:20260421T170300
CREATED:20250117T204031Z
LAST-MODIFIED:20250117T204031Z
UID:10000144-1857234600-1857240000@folq.org
SUMMARY:Board Meeting
DESCRIPTION:
URL:https://folq.org/event/board-meeting-3/2028-11-07/
END:VEVENT
BEGIN:VEVENT
DTSTART;TZID=UTC:20281205T183000
DTEND;TZID=UTC:20281205T200000
DTSTAMP:20260421T170300
CREATED:20250117T204031Z
LAST-MODIFIED:20250117T204031Z
UID:10000145-1859653800-1859659200@folq.org
SUMMARY:Board Meeting
DESCRIPTION:
URL:https://folq.org/event/board-meeting-3/2028-12-05/
END:VEVENT
BEGIN:VEVENT
DTSTART;TZID=UTC:20290102T183000
DTEND;TZID=UTC:20290102T200000
DTSTAMP:20260421T170300
CREATED:20250117T204031Z
LAST-MODIFIED:20250117T204031Z
UID:10000146-1862073000-1862078400@folq.org
SUMMARY:Board Meeting
DESCRIPTION:
URL:https://folq.org/event/board-meeting-3/2029-01-02/
END:VEVENT
BEGIN:VEVENT
DTSTART;TZID=UTC:20290306T183000
DTEND;TZID=UTC:20290306T200000
DTSTAMP:20260421T170300
CREATED:20250117T204031Z
LAST-MODIFIED:20250117T204031Z
UID:10000147-1867516200-1867521600@folq.org
SUMMARY:Board Meeting
DESCRIPTION:
URL:https://folq.org/event/board-meeting-3/2029-03-06/
END:VEVENT
BEGIN:VEVENT
DTSTART;TZID=UTC:20290403T183000
DTEND;TZID=UTC:20290403T200000
DTSTAMP:20260421T170300
CREATED:20250117T204031Z
LAST-MODIFIED:20250117T204031Z
UID:10000148-1869935400-1869940800@folq.org
SUMMARY:Board Meeting
DESCRIPTION:
URL:https://folq.org/event/board-meeting-3/2029-04-03/
END:VEVENT
BEGIN:VEVENT
DTSTART;TZID=UTC:20290501T183000
DTEND;TZID=UTC:20290501T200000
DTSTAMP:20260421T170300
CREATED:20250117T204031Z
LAST-MODIFIED:20250117T204031Z
UID:10000149-1872354600-1872360000@folq.org
SUMMARY:Board Meeting
DESCRIPTION:
URL:https://folq.org/event/board-meeting-3/2029-05-01/
END:VEVENT
END:VCALENDAR