BEGIN:VCALENDAR
VERSION:2.0
PRODID:-//Friends of Lake Quannapowitt - ECPv6.15.18//NONSGML v1.0//EN
CALSCALE:GREGORIAN
METHOD:PUBLISH
X-WR-CALNAME:Friends of Lake Quannapowitt
X-ORIGINAL-URL:https://folq.org
X-WR-CALDESC:Events for Friends of Lake Quannapowitt
REFRESH-INTERVAL;VALUE=DURATION:PT1H
X-Robots-Tag:noindex
X-PUBLISHED-TTL:PT1H
BEGIN:VTIMEZONE
TZID:America/New_York
BEGIN:DAYLIGHT
TZOFFSETFROM:-0500
TZOFFSETTO:-0400
TZNAME:EDT
DTSTART:20250309T070000
END:DAYLIGHT
BEGIN:STANDARD
TZOFFSETFROM:-0400
TZOFFSETTO:-0500
TZNAME:EST
DTSTART:20251102T060000
END:STANDARD
BEGIN:DAYLIGHT
TZOFFSETFROM:-0500
TZOFFSETTO:-0400
TZNAME:EDT
DTSTART:20260308T070000
END:DAYLIGHT
BEGIN:STANDARD
TZOFFSETFROM:-0400
TZOFFSETTO:-0500
TZNAME:EST
DTSTART:20261101T060000
END:STANDARD
BEGIN:DAYLIGHT
TZOFFSETFROM:-0500
TZOFFSETTO:-0400
TZNAME:EDT
DTSTART:20270314T070000
END:DAYLIGHT
BEGIN:STANDARD
TZOFFSETFROM:-0400
TZOFFSETTO:-0500
TZNAME:EST
DTSTART:20271107T060000
END:STANDARD
END:VTIMEZONE
BEGIN:VEVENT
DTSTART;TZID=America/New_York:20260614T100000
DTEND;TZID=America/New_York:20260614T140000
DTSTAMP:20260421T140822
CREATED:20260402T184950Z
LAST-MODIFIED:20260402T184950Z
UID:10000195-1781431200-1781445600@folq.org
SUMMARY:🎪 Festival by the Lake
DESCRIPTION:Friends of Lake Quannapowitt is happy to once again participate at the Festival by the Lake\, an annual event hosted by the Wakefield Center Neighborhood Association (WCNA). Come for the many crafters\, artists\, local organizations\, live music\, and great food. Visit with the many local nonprofit organizations\, including FOLQ\, to learn about community services and opportunities to get involved. \nFOLQ will share information about the Lake\, including updates on construction around the lake\, native and invasive plant work being done along the shores\, water quality updates\, and more. \nWe hope to see you on the Lower Common for this community event!
URL:https://folq.org/event/%f0%9f%8e%aa-festival-by-the-lake-2/
END:VEVENT
END:VCALENDAR