BEGIN:VCALENDAR
VERSION:2.0
PRODID:-//Friends of Lake Quannapowitt - ECPv6.15.18//NONSGML v1.0//EN
CALSCALE:GREGORIAN
METHOD:PUBLISH
X-WR-CALNAME:Friends of Lake Quannapowitt
X-ORIGINAL-URL:https://folq.org
X-WR-CALDESC:Events for Friends of Lake Quannapowitt
REFRESH-INTERVAL;VALUE=DURATION:PT1H
X-Robots-Tag:noindex
X-PUBLISHED-TTL:PT1H
BEGIN:VTIMEZONE
TZID:America/New_York
BEGIN:DAYLIGHT
TZOFFSETFROM:-0500
TZOFFSETTO:-0400
TZNAME:EDT
DTSTART:20250309T070000
END:DAYLIGHT
BEGIN:STANDARD
TZOFFSETFROM:-0400
TZOFFSETTO:-0500
TZNAME:EST
DTSTART:20251102T060000
END:STANDARD
BEGIN:DAYLIGHT
TZOFFSETFROM:-0500
TZOFFSETTO:-0400
TZNAME:EDT
DTSTART:20260308T070000
END:DAYLIGHT
BEGIN:STANDARD
TZOFFSETFROM:-0400
TZOFFSETTO:-0500
TZNAME:EST
DTSTART:20261101T060000
END:STANDARD
BEGIN:DAYLIGHT
TZOFFSETFROM:-0500
TZOFFSETTO:-0400
TZNAME:EDT
DTSTART:20270314T070000
END:DAYLIGHT
BEGIN:STANDARD
TZOFFSETFROM:-0400
TZOFFSETTO:-0500
TZNAME:EST
DTSTART:20271107T060000
END:STANDARD
END:VTIMEZONE
BEGIN:VEVENT
DTSTART;VALUE=DATE:20260504
DTEND;VALUE=DATE:20260505
DTSTAMP:20260421T124812
CREATED:20260402T190604Z
LAST-MODIFIED:20260407T175709Z
UID:10000197-1777852800-1777939199@folq.org
SUMMARY:🧹 Lake Cleanup with Weston & Sampson
DESCRIPTION:The tradition continues! Volunteers from Weston & Sampson Engineering & Environmental Consulting will spend an evening at the Lake. They will clean up trash\, remove invasive plants\, and plant new additions to the Gertrude Spaulding garden at the north end of the lake. Our sincere thanks for Weston & Sampson’s many years of volunteerism with Friends of Lake Quannapowitt!
URL:https://folq.org/event/lake-cleanup-with-weston-sampson/
END:VEVENT
END:VCALENDAR