BEGIN:VCALENDAR
VERSION:2.0
PRODID:-//Friends of Lake Quannapowitt - ECPv6.15.18//NONSGML v1.0//EN
CALSCALE:GREGORIAN
METHOD:PUBLISH
X-WR-CALNAME:Friends of Lake Quannapowitt
X-ORIGINAL-URL:https://folq.org
X-WR-CALDESC:Events for Friends of Lake Quannapowitt
REFRESH-INTERVAL;VALUE=DURATION:PT1H
X-Robots-Tag:noindex
X-PUBLISHED-TTL:PT1H
BEGIN:VTIMEZONE
TZID:America/New_York
BEGIN:DAYLIGHT
TZOFFSETFROM:-0500
TZOFFSETTO:-0400
TZNAME:EDT
DTSTART:20250309T070000
END:DAYLIGHT
BEGIN:STANDARD
TZOFFSETFROM:-0400
TZOFFSETTO:-0500
TZNAME:EST
DTSTART:20251102T060000
END:STANDARD
BEGIN:DAYLIGHT
TZOFFSETFROM:-0500
TZOFFSETTO:-0400
TZNAME:EDT
DTSTART:20260308T070000
END:DAYLIGHT
BEGIN:STANDARD
TZOFFSETFROM:-0400
TZOFFSETTO:-0500
TZNAME:EST
DTSTART:20261101T060000
END:STANDARD
BEGIN:DAYLIGHT
TZOFFSETFROM:-0500
TZOFFSETTO:-0400
TZNAME:EDT
DTSTART:20270314T070000
END:DAYLIGHT
BEGIN:STANDARD
TZOFFSETFROM:-0400
TZOFFSETTO:-0500
TZNAME:EST
DTSTART:20271107T060000
END:STANDARD
END:VTIMEZONE
BEGIN:VEVENT
DTSTART;VALUE=DATE:20260501
DTEND;VALUE=DATE:20260503
DTSTAMP:20260421T112348
CREATED:20260313T122906Z
LAST-MODIFIED:20260402T184210Z
UID:10000191-1777593600-1777766399@folq.org
SUMMARY:🎨 Lake Quannapowitt Art Show - Only a Few Spots Left
DESCRIPTION:FOLQ hosting an art show featuring artwork of Lake Quannapowitt and its surrounding natural lands.\nTheme: Celebrating the Natural Beauty of Our Lake \n\nShow Dates: May 1st and 2nd\, 2026\nLocation: Albion Cultural Exchange\n\nPre-registration has closed for this Art Show but we have a limited number of spaces still available. The show is open to local artists of all ages featuring artwork of Lake Quannapowitt and its surrounding natural lands. \nIf you would like to register\, please email mail@folq.org. \nAll types of artists and art are welcome at this free event.\n\nArtists of all ages\, and amateurs and professionals.\nAny media\, including drawing\, painting\, photography\, sculpture\, crafts\, etc.\n\nBasic guidelines for submissions:\n\nOne piece per artist (no larger than 20×30 inches\, weighing no more than 10 lb)\nPiece should be inspired by the show’s theme\nPiece must be dropped off the week before the show and picked up the week after during scheduled times TBD (Show Dates: May 1st and 2nd\, 2026)\nFull details will be provided to all who register\n\nPre-registration has closed for this Art Show but we have a limited number of spaces still available. The show is open to local artists of all ages featuring artwork of Lake Quannapowitt and its surrounding natural lands. \nIf you would like to register\, please email mail@folq.org.
URL:https://folq.org/event/%f0%9f%8e%a8-lake-quannapowitt-art-show-pre-register-now/
END:VEVENT
END:VCALENDAR