BEGIN:VCALENDAR
VERSION:2.0
PRODID:-//Friends of Lake Quannapowitt - ECPv6.15.18//NONSGML v1.0//EN
CALSCALE:GREGORIAN
METHOD:PUBLISH
X-ORIGINAL-URL:https://folq.org
X-WR-CALDESC:Events for Friends of Lake Quannapowitt
REFRESH-INTERVAL;VALUE=DURATION:PT1H
X-Robots-Tag:noindex
X-PUBLISHED-TTL:PT1H
BEGIN:VTIMEZONE
TZID:UTC
BEGIN:STANDARD
TZOFFSETFROM:+0000
TZOFFSETTO:+0000
TZNAME:UTC
DTSTART:20250101T000000
END:STANDARD
END:VTIMEZONE
BEGIN:VEVENT
DTSTART;TZID=UTC:20260407T183000
DTEND;TZID=UTC:20260407T200000
DTSTAMP:20260421T112903
CREATED:20250117T204031Z
LAST-MODIFIED:20250117T204031Z
UID:10000117-1775586600-1775592000@folq.org
SUMMARY:Board Meeting
DESCRIPTION:
URL:https://folq.org/event/board-meeting-3/2026-04-07/
END:VEVENT
END:VCALENDAR